

BEGIN:VCALENDAR
VERSION:2.0
PRODID:-//Orkney Council//EN
BEGIN:VEVENT
SUMMARY:Orkney Islands Area Licensing Board
DESCRIPTION:
UID:38691
DTSTAMP:20260424T140800Z
DTSTART:20260430T134500Z
DTEND:20260430T143000Z
TRANSP:TRANSPARENT
END:VEVENT
END:VCALENDAR