

BEGIN:VCALENDAR
VERSION:2.0
PRODID:-//Orkney Council//EN
BEGIN:VEVENT
SUMMARY:Local Review Body
DESCRIPTION:
UID:39563
DTSTAMP:20260424T140800Z
DTSTART:20260430T104500Z
DTEND:20260430T120000Z
TRANSP:TRANSPARENT
END:VEVENT
END:VCALENDAR