

BEGIN:VCALENDAR
VERSION:2.0
PRODID:-//Orkney Council//EN
BEGIN:VEVENT
SUMMARY:Licensing Committee
DESCRIPTION:
UID:38692
DTSTAMP:20260424T140800Z
DTSTART:20260430T143000Z
DTEND:20260430T160000Z
TRANSP:TRANSPARENT
END:VEVENT
END:VCALENDAR