

BEGIN:VCALENDAR
VERSION:2.0
PRODID:-//Orkney Council//EN
BEGIN:VEVENT
SUMMARY:Flotta CC 31.03.26
DESCRIPTION:
UID:38430
DTSTAMP:20260421T084400Z
DTSTART:20260331T151500Z
DTEND:20260331T171500Z
TRANSP:TRANSPARENT
END:VEVENT
END:VCALENDAR