

BEGIN:VCALENDAR
VERSION:2.0
PRODID:-//Orkney Council//EN
BEGIN:VEVENT
SUMMARY:Flotta CC 19.05.26
DESCRIPTION:
UID:39081
DTSTAMP:20260420T085800Z
DTSTART:20260519T151500Z
DTEND:20260519T171500Z
TRANSP:TRANSPARENT
END:VEVENT
END:VCALENDAR