

BEGIN:VCALENDAR
VERSION:2.0
PRODID:-//Orkney Council//EN
BEGIN:VEVENT
SUMMARY:Term 2 - 2026 to 2027
DESCRIPTION:
UID:18731
DTSTAMP:20260420T085500Z
DTSTART:20261028T000000Z
DTEND:20261219T000000Z
TRANSP:TRANSPARENT
END:VEVENT
END:VCALENDAR