

BEGIN:VCALENDAR
VERSION:2.0
PRODID:-//Orkney Council//EN
BEGIN:VEVENT
SUMMARY:October Holidays 2026
DESCRIPTION:
UID:18730
DTSTAMP:20260421T150900Z
DTSTART:20261011T230000Z
DTEND:20261028T000000Z
TRANSP:TRANSPARENT
END:VEVENT
END:VCALENDAR